BEGIN:VCALENDAR
VERSION:2.0
PRODID:-//Plattduetsche Park Restaurant - ECPv6.15.17.1//NONSGML v1.0//EN
CALSCALE:GREGORIAN
METHOD:PUBLISH
X-ORIGINAL-URL:https://parkrestaurant.com
X-WR-CALDESC:Events for Plattduetsche Park Restaurant
REFRESH-INTERVAL;VALUE=DURATION:PT1H
X-Robots-Tag:noindex
X-PUBLISHED-TTL:PT1H
BEGIN:VTIMEZONE
TZID:America/New_York
BEGIN:DAYLIGHT
TZOFFSETFROM:-0500
TZOFFSETTO:-0400
TZNAME:EDT
DTSTART:20190310T070000
END:DAYLIGHT
BEGIN:STANDARD
TZOFFSETFROM:-0400
TZOFFSETTO:-0500
TZNAME:EST
DTSTART:20191103T060000
END:STANDARD
BEGIN:DAYLIGHT
TZOFFSETFROM:-0500
TZOFFSETTO:-0400
TZNAME:EDT
DTSTART:20200308T070000
END:DAYLIGHT
BEGIN:STANDARD
TZOFFSETFROM:-0400
TZOFFSETTO:-0500
TZNAME:EST
DTSTART:20201101T060000
END:STANDARD
BEGIN:DAYLIGHT
TZOFFSETFROM:-0500
TZOFFSETTO:-0400
TZNAME:EDT
DTSTART:20210314T070000
END:DAYLIGHT
BEGIN:STANDARD
TZOFFSETFROM:-0400
TZOFFSETTO:-0500
TZNAME:EST
DTSTART:20211107T060000
END:STANDARD
END:VTIMEZONE
BEGIN:VEVENT
DTSTART;TZID=America/New_York:20200717T170000
DTEND;TZID=America/New_York:20200717T230000
DTSTAMP:20260420T164840
CREATED:20200214T235106Z
LAST-MODIFIED:20200214T235106Z
UID:6234-1595005200-1595026800@parkrestaurant.com
SUMMARY:Baconfest 2020
DESCRIPTION:Come enjoy all things bacon – entrees\, dessert\, even drinks! Baconfest menu available after 5 p.m.
URL:https://parkrestaurant.com/event/baconfest-2020/2020-07-17/
LOCATION:Plattduetsche Biergarten\, 1132 Hempstead Turnpike\, Franklin Square\, NY\, 11010\, United States
CATEGORIES:Festival,Special event
GEO:40.7081876;-73.6822021
X-APPLE-STRUCTURED-LOCATION;VALUE=URI;X-ADDRESS=Plattduetsche Biergarten 1132 Hempstead Turnpike Franklin Square NY 11010 United States;X-APPLE-RADIUS=500;X-TITLE=1132 Hempstead Turnpike:geo:-73.6822021,40.7081876
END:VEVENT
END:VCALENDAR